BEGIN:VCALENDAR
METHOD:PUBLISH
PRODID:www-humanrights-fau-de//Events//DE
VERSION:2.0
BEGIN:VEVENT
SUMMARY:Workshop “Business\, Human Rights and Environment in the And
 ean Countries”
UID:ee2a-b513-e2c9-10636@www.humanrights.fau.de
DESCRIPTION:Workshop “Business\, Human Rights and the Environment in
  the Andean Countries” Organisiert vom FAU Forschungszentrum Center 
 for Human Rights Erlangen-Nürnberg (FAU CHREN) und der ADLAF-Arbeitsg
 ruppe Andenländer  Datum: 30. September 2025 Ort: Hörsaal\, 4. Stoc
 k\, Andreij-Sacharow-Platz 1\, 90403 Nürnberg Anmeldung: Wenn Sie an 
 einer Teilnahme an diesem Workshop interessiert sind\, füllen Sie bit
 te das Formular hier aus und reichen Sie einen Titel und eine kurze Zu
 sammenfassung Ihrer Präsentation (max. 300 Wörter) bis zum 31.05.202
 5 ein. Obwohl verschiedene Arten von Rechten in den Andenländern bere
 its anerkannt sind\, haben Unternehmen\, wie die mineralgewinnende Ind
 ustrie und die großflächige Landwirtschaft vor Ort\, oft erhebliche 
 sozioökologische Schäden verursacht. Dazu gehören die Abholzung von
  Wäldern\, der Verlust des Zugangs zu Wasser und Land\, die Vertreibu
 ng lokaler Gemeinschaften und bäuerlicher Familienbetriebe sowie die 
 Gesundheitsgefährdung durch den Einsatz von Pestiziden. Außerdem sin
 d die Rechte der Arbeitnehmenden immer noch unzureichend geschützt. I
 n diesem Workshop werden wir die verschiedenen sozialen und ökologisc
 hen Auswirkungen von Unternehmensaktivitäten in den Andenländern im 
 Kontext unserer globalen (politischen) Wirtschaft analysieren und disk
 utieren. Darüber hinaus werden wir verschiedene nationale und transna
 tionale Governance-Instrumente beleuchten\, die darauf abzielen\, die 
 von Unternehmen verursachten oder mitverursachten negativen Auswirkung
 en zu bewerten und zu bewältigen\, und analysieren\, wie sie sich in 
 konkreten nationalen und lokalen Kontexten entfalten\, die durch unter
 schiedliche Akteure und Machtkonstellationen gekennzeichnet sind. Schl
 ießlich sollen neue Strategien und Initiativen identifiziert werden\,
  die dazu beitragen könnten\, die mit der Wirtschaft verbundenen Mens
 chenrechts- und Umweltprobleme zu verändern\, z.B. durch die Entwickl
 ung verantwortungsvollerer Geschäftsmodelle\, die Schaffung neuer All
 ianzen zwische
DTSTART:20250930T000000Z
DTEND:20250930T235500Z
DTSTAMP:20260422T051831Z
END:VEVENT
END:VCALENDAR